Workbook
Name 원금: '[1]2.세출결산'!$AO$6:$AO$141
Name 이자: '[1]2.세출결산'!$AP$6:$AP$141

Sheet 표지
I5: 법인회계
B10: 2021년도 법인회계 세입·세출 결산서
D16: 세 입
D18: 일 금 : 사억오천팔백칠십사만일천육백사십구원
D21: 세 출
D23: 일 금 :사억구백오십오만삼천팔십원
D26: 세입·세출 차인 잔액
D28: 일 금 : 사천구백일십팔만팔천오백육십구원
E29: * 차인잔액=세입총액-세출총액
D32: <차인잔액 세부내역>
B34: ○ 순세계잉여금 : 금사천사백오십팔만팔천오백육십구원 (44,588,569원)
B35: * 전년도 회계에서 발생하는 불용액으로 다음 연도에 이월되는 금액
B37: ○ 다음연도 이월사업비 : 금사백육십만원 (4,600,000원)
B38: * 특정사업을 당해 연도에 완료하지 못한 경우 다음연도에 이월하는 금액
B39: * 임대보증금 미환급에 따른 이월액 포함
B40: * 이월사업비 조서[서식 12호] 필수 제출
C45: 학교법인 대일학원

Sheet 1.총괄표
A2: 【1호 서식】
A3: *[2호 서식] 입력시 총괄표 자동입력됨
B6: 2021년도 법인회계 결산 총괄표
A8: 1. 세입 | F8: 2. 세출
I9: (단위 : 원)
A10: 과목(항별기준) | C10: 결산액 (A) | D10: 최 종 예산액 (B) | E10: 비교증감 (A-B) | F10: 과목(항별기준) | H10: 결산액 (A) | I10: 최 종 예산액 (B) | J10: 비교증감 (A-B)
A11: 1-1. 기본재산수입 | C11: =SUM('2.세입·세출 결산명세서'!D7:D13) -> 39780189 | D11: =SUM('2.세입·세출 결산명세서'!E7:E13) -> 40000000 | E11: =C11-D11 -> -219811 | F11: 1-1. 이사회비 | H11: =SUM('2.세입·세출 결산명세서'!D49:D52) -> 4480000 | I11: =SUM('2.세입·세출 결산명세서'!E49:E52) -> 11000000 | J11: =H11-I11 -> -6520000
A12: 1-2. 재산매각대 | C12: =SUM('2.세입·세출 결산명세서'!D14:D18) -> 0 | D12: =SUM('2.세입·세출 결산명세서'!E14:E18) -> 0 | E12: =C12-D12 -> 0 | F12: 2-1. 인 건 비 | H12: =SUM('2.세입·세출 결산명세서'!D53:D58) -> 0 | I12: =SUM('2.세입·세출 결산명세서'!E53:E58) -> 5000 | J12: =H12-I12 -> -5000
A13: 2-1. 사업수입 | C13: =SUM('2.세입·세출 결산명세서'!D19:D19) -> 399300000 | D13: =SUM('2.세입·세출 결산명세서'!E19:E19) -> 410000000 | E13: =C13-D13 -> -10700000 | F13: 2-2. 수 용 비 | H13: =SUM('2.세입·세출 결산명세서'!D59:D64) -> 2486220 | I13: =SUM('2.세입·세출 결산명세서'!E59:E64) -> 9602000 | J13: =H13-I13 -> -7115780
A14: 3-1. 투자수입 | C14: =SUM('2.세입·세출 결산명세서'!D20:D23) -> 0 | D14: =SUM('2.세입·세출 결산명세서'!E20:E23) -> 0 | E14: =C14-D14 -> 0 | F14: 3-1. 시 설 비 | H14: =SUM('2.세입·세출 결산명세서'!D65:D67) -> 0 | I14: =SUM('2.세입·세출 결산명세서'!E65:E67) -> 1000 | J14: =H14-I14 -> -1000
A15: 4-1. 전년도수입 | C15: =SUM('2.세입·세출 결산명세서'!D24:D24) -> 0 | D15: =SUM('2.세입·세출 결산명세서'!E24:E24) -> 0 | E15: =C15-D15 -> 0 | F15: 3-2. 재산관리비 | H15: =SUM('2.세입·세출 결산명세서'!D68:D70) -> 35157690 | I15: =SUM('2.세입·세출 결산명세서'!E68:E70) -> 73000000 | J15: =H15-I15 -> -37842310
A16: 5-1. 전년도이월금 | C16: =SUM('2.세입·세출 결산명세서'!D25:D28) -> 3154503 | D16: =SUM('2.세입·세출 결산명세서'!E25:E28) -> 2300000 | E16: =C16-D16 -> 854503 | F16: 4-1. 전 출 금 | H16: =SUM('2.세입·세출 결산명세서'!D71:D77) -> 361849170 | I16: =SUM('2.세입·세출 결산명세서'!E71:E77) -> 346900000 | J16: =H16-I16 -> 14949170
A17: 6-1. 기부원조금 | C17: =SUM('2.세입·세출 결산명세서'!D29:D31) -> 5000000 | D17: =SUM('2.세입·세출 결산명세서'!E29:E31) -> 5002000 | E17: =C17-D17 -> -2000 | F17: 5-1. 투 자 비 | H17: =SUM('2.세입·세출 결산명세서'!D78:D80) -> 0 | I17: =SUM('2.세입·세출 결산명세서'!E78:E80) -> 0 | J17: =H17-I17 -> 0
A18: 7-1. 차입금 | C18: =SUM('2.세입·세출 결산명세서'!D32:D34) -> 4600000 | D18: =SUM('2.세입·세출 결산명세서'!E32:E34) -> 4602000 | E18: =C18-D18 -> -2000 | F18: 6-1. 전년도지출 | H18: =SUM('2.세입·세출 결산명세서'!D81:D81) -> 0 | I18: =SUM('2.세입·세출 결산명세서'!E81:E81) -> 0 | J18: =H18-I18 -> 0
A19: 8-1. 물품매각대 | C19: =SUM('2.세입·세출 결산명세서'!D35:D35) -> 0 | D19: =SUM('2.세입·세출 결산명세서'!E35:E35) -> 0 | E19: =C19-D19 -> 0 | F19: 7-1. 부채상환금 | H19: =SUM('2.세입·세출 결산명세서'!D82:D84) -> 0 | I19: =SUM('2.세입·세출 결산명세서'!E82:E84) -> 4600000 | J19: =H19-I19 -> -4600000
A20: 8-2. 예금이자 | C20: =SUM('2.세입·세출 결산명세서'!D36:D36) -> 40567 | D20: =SUM('2.세입·세출 결산명세서'!E36:E36) -> 150000 | E20: =C20-D20 -> -109433 | F20: 8-1. 장 학 금 | H20: =SUM('2.세입·세출 결산명세서'!D85:D85) -> 0 | I20: =SUM('2.세입·세출 결산명세서'!E85:E85) -> 0 | J20: =H20-I20 -> 0
A21: 8-3. 잡수입 | C21: =SUM('2.세입·세출 결산명세서'!D37:D38) -> 6866390 | D21: =SUM('2.세입·세출 결산명세서'!E37:E38) -> 7000000 | E21: =C21-D21 -> -133610 | F21: 9-1. 제 지 출 | H21: =SUM('2.세입·세출 결산명세서'!D86:D89) -> 5580000 | I21: =SUM('2.세입·세출 결산명세서'!E86:E89) -> 18446000 | J21: =H21-I21 -> -12866000
F22: 10-1. 예 비 비 | H22: =SUM('2.세입·세출 결산명세서'!D90:D90) -> 0 | I22: =SUM('2.세입·세출 결산명세서'!E90:E90) -> 5500000 | J22: =H22-I22 -> -5500000
A23: 합 계 | C23: =SUM(C11:C22) -> 458741649 | D23: =SUM(D11:D22) -> 469054000 | E23: =SUM(E11:E22) -> -10312351 | F23: 합 계 | H23: =SUM(H11:H22) -> 409553080 | I23: =SUM(I11:I22) -> 469054000 | J23: =SUM(J11:J22) -> -59500920
A25: 3. 2021년도 법정부담금 부담 현황(유, 초, 중, 고)
I26: (단위 : 원)
A27: 유지·경영 학교명 | C27: 법정부담금 소요액(A) | E27: 전출액(B) | G27: 부담비율(%) (B/A x 100) | I27: 비 고
A28: 대일고등학교 | C28: 369214010 | E28: 160000000 | G28: =E28/C28*100 -> 43.3353
A29: 대일외국어고등학교 | C29: 318916560 | E29: 100000000 | G29: =E29/C29*100 -> 31.356164
A30: 대일관광고등학교 | C30: 254027080 | E30: 90000000 | G30: =E30/C30*100 -> 35.429294
A31: 계 | C31: =SUM(C28:D30) -> 942157650 | E31: =SUM(E28:F30) -> 350000000 | G31: =E31/C31*100 -> 37.148772
A33: ※ 법정부담금은 사학연금, 건강보험, 재해보상, 비정규직 4대보험을 포함한 금액
A35: 4. 총괄 사항
A36: 법인명 | C36: 홈페이지 공개여부 | E36: 감사 서명 | G36: 이사회 의결 | I36: 관할청 보고
E37: 서명일 | F37: 서명여부 | G37: 회의일 | H37: 서명여부 | I37: 보고일 | J37: 검토 결과
A38: 대일학원 | C38: O | E38: 44659 | F38: O | G38: 44672 | H38: O | I38: 43221 | J38: O

Sheet 2.세입·세출 결산명세서
A2: 【2호 서식】
B3: 대일학원 세입 결산명세서
F4: (단위 : 원)
A5: 구 분 | D5: 결산액 (A) | E5: 최 종 예산액 (B) | F5: 비교증감 (A-B) | G5: 비고
A6: 관 | B6: 항 | C6: 목
A7: 1. 재산수입 | B7: 1. 기본재산수입 | C7: 1. 대지료
C8: 2. 대가료 | D8: 27640702 | E8: 27600000 | F8: =D8-E8 -> 40702
C9: 3. 임야수입 | F9: =D9-E9 -> 0
C10: 4. 예금이자수입 | D10: 9932137 | E10: 10400000 | F10: =D10-E10 -> -467863
C11: 5. 배당금수입 | F11: =D11-E11 -> 0
C12: 6. 법인세 환급금<법인분> | D12: 2207350 | E12: 2000000 | F12: =D12-E12 -> 207350
C13: 7. 기타수입 | F13: =D13-E13 -> 0
B14: 2. 재산매각대 | C14: 1. 토지매각대 | F14: =D14-E14 -> 0
C15: 2. 건물매각대 | F15: =D15-E15 -> 0
C16: 3. 임야매각대 | F16: =D16-E16 -> 0
C17: 4. 현금처분대 | F17: =D17-E17 -> 0
C18: 5. 기타재산매각대 | F18: =D18-E18 -> 0
A19: 2. 사업수입 | B19: 1. 사업수입 | C19: 1. 사업수입 | D19: 399300000 | E19: 410000000 | F19: =D19-E19 -> -10700000
A20: 3. 투자사업 | B20: 1. 투자수입 | C20: 1. 배당금 | F20: =D20-E20 -> 0
C21: 2. 국채상환금 | F21: =D21-E21 -> 0
C22: 3. 국채이자수입 | F22: =D22-E22 -> 0
C23: 4. 기타증권수입 | F23: =D23-E23 -> 0
A24: 4. 전년도수입 | B24: 4. 전년도수입 | C24: 1. 전년도수입 | F24: =D24-E24 -> 0
A25: 5. 이월금 | B25: 5. 전년도이월금 | C25: 1. 전년도이월금 | D25: 3154503 | E25: 2300000 | F25: =D25-E25 -> 854503
C26: 2. 이월사업비 | F26: =D26-E26 -> 0
C27: 3. 임대보증금 미환급 보유액 | F27: =D27-E27 -> 0
C28: 4. 적립금 | F28: =D28-E28 -> 0
A29: 6. 기부원조금 | B29: 1. 기부원조금 | C29: 1. 기부금 | D29: 0 | E29: 1000 | F29: =D29-E29 -> -1000
C30: 2. 보조금 | D30: 5000000 | E30: 5000000 | F30: =D30-E30 -> 0
C31: 3. 기타지원금 | D31: 0 | E31: 1000 | F31: =D31-E31 -> -1000
A32: 7. 차입금 | B32: 1. 차입금 | C32: 1. 은행차입 | D32: 0 | E32: 1000 | F32: =D32-E32 -> -1000
C33: 2. 개인차입 | D33: 0 | E33: 1000 | F33: =D33-E33 -> -1000
C34: 3. 임대보증금 수입 | D34: 4600000 | E34: 4600000 | F34: =D34-E34 -> 0
A35: 8. 잡수입 | B35: 1. 물품매각대 | C35: 1. 불용물품매각대 | F35: =D35-E35 -> 0
B36: 2. 예금이자 | C36: 1. 예금이자 | D36: 40567 | E36: 150000 | F36: =D36-E36 -> -109433
B37: 3. 잡수입 | C37: 1. 잡수입 | D37: 17220 | E37: 100000 | F37: =D37-E37 -> -82780
C38: 2. 법인세환급금(학교분) | D38: 6849170 | E38: 6900000 | F38: =D38-E38 -> -50830
A39: 계 | D39: =SUM(D7:D38) -> 458741649 | E39: =SUM(E7:E38) -> 469054000 | F39: =SUM(F7:F38) -> -10312351
A41: ※ 세입과목 순서대로 작성할 것
B45: 대일학원 세출 결산명세서
F46: (단위 : 원)
A47: 구 분 | D47: 결산액 (A) | E47: 최 종 예산액 (B) | F47: 비교증감 (A-B) | G47: 비고
A48: 관 | B48: 항 | C48: 목
A49: 1. 이사회비 | B49: 1. 이사회비 | C49: 1. 임원수당 | D49: 4480000 | E49: 8000000 | F49: =D49-E49 -> -3520000
C50: 2. 회의비 | D50: 0 | E50: 1000000 | F50: =D50-E50 -> -1000000
C51: 3. 판공비 | D51: 0 | E51: 1000000 | F51: =D51-E51 -> -1000000
C52: 4. 여비 | D52: 0 | E52: 1000000 | F52: =D52-E52 -> -1000000
A53: 2. 사무비 | B53: 1. 인건비 | C53: 1. 봉급 | D53: 0 | E53: 1000 | F53: =D53-E53 -> -1000
C54: 2. 수당 | D54: 0 | E54: 1000 | F54: =D54-E54 -> -1000
C55: 3. 잡급 | D55: 0 | E55: 1000 | F55: =D55-E55 -> -1000
C56: 4. 여비 | D56: 0 | E56: 1000 | F56: =D56-E56 -> -1000
C57: 5. 퇴직금 | D57: 0 | E57: 1000 | F57: =D57-E57 -> -1000
C58: 6. 부담금 | F58: =D58-E58 -> 0
B59: 2. 수용비 | C59: 1. 공공요금 | D59: 107920 | E59: 1200000 | F59: =D59-E59 -> -1092080
C60: 2. 차량비 | D60: 0 | E60: 1000 | F60: =D60-E60 -> -1000
C61: 3. 비품기계류비 | D61: 0 | E61: 1000 | F61: =D61-E61 -> -1000
C62: 4. 수용비및수수료 | D62: 2354300 | E62: 6000000 | F62: =D62-E62 -> -3645700
C63: 5. 수용재료비 | D63: 24000 | E63: 2400000 | F63: =D63-E63 -> -2376000
C64: 6. 인쇄비 | F64: =D64-E64 -> 0
A65: 3. 재산조성비 | B65: 1. 시설비 | C65: 1. 재산매입비 | F65: =D65-E65 -> 0
C66: 2. 시설비 | D66: 0 | E66: 1000 | F66: =D66-E66 -> -1000
C67: 3. 적립금 | F67: =D67-E67 -> 0
B68: 2. 재산관리비 | C68: 1. 재산유지비 | D68: 14288900 | E68: 28000000 | F68: =D68-E68 -> -13711100
C69: 2. 공과보험료 | D69: 20868790 | E69: 45000000 | F69: =D69-E69 -> -24131210
C70: 3. 재산사용료 | F70: =D70-E70 -> 0
A71: 4. 전출금 | B71: 1. 전출금 | C71: 1. 법정부담금 | D71: 350000000 | E71: 330000000 | F71: =D71-E71 -> 20000000
C72: 2. 학교운영경비 | F72: =D72-E72 -> 0
C73: 3. 법인세환급금(학교분) | D73: 6226660 | E73: 6900000 | F73: =D73-E73 -> -673340
C74: 4. 교육청 대응 투자비 | F74: =D74-E74 -> 0
C75: 5. 시설비 | F75: =D75-E75 -> 0
C76: 6. 교육청 외 기관지원금 | F76: =D76-E76 -> 0
C77: 7. 기타전출금 | D77: 5622510 | E77: 10000000 | F77: =D77-E77 -> -4377490
A78: 5. 투자비 | B78: 1. 투자비 | C78: 1. 주식, 채권 매입비(수익용) | F78: =D78-E78 -> 0
C79: 2. 현금, 기타 투자비(수익용) | F79: =D79-E79 -> 0
C80: 3. 기타투자비(법인일반운영비) | F80: =D80-E80 -> 0
A81: 6. 전년도지출 | B81: 1. 전년도지출 | C81: 1. 전년도지출 | F81: =D81-E81 -> 0
A82: 7. 상환금 | B82: 1. 부채상환금 | C82: 1. 원금상환금 | F82: =D82-E82 -> 0
C83: 2. 이자상환금 | F83: =D83-E83 -> 0
C84: 3. 임대보증금 환급금 | D84: 0 | E84: 4600000 | F84: =D84-E84 -> -4600000
A85: 8. 수혜금 | B85: 1. 장학금 | C85: 1. 장학금 | F85: =D85-E85 -> 0
A86: 9. 잡지출 | B86: 1. 제지출 | C86: 1. 보상금 | F86: =D86-E86 -> 0
C87: 2. 사례금 | F87: =D87-E87 -> 0
C88: 3. 소송비 | D88: 0 | E88: 10000000 | F88: =D88-E88 -> -10000000
C89: 4. 기타제지출 | D89: 5580000 | E89: 8446000 | F89: =D89-E89 -> -2866000
A90: 10. 예비비 | B90: 1. 예비비 | C90: 1. 예비비 | D90: 0 | E90: 5500000 | F90: =D90-E90 -> -5500000
A91: 계 | D91: =SUM(D49:D90) -> 409553080 | E91: =SUM(E49:E90) -> 469054000 | F91: =D91-E91 -> -59500920

Sheet 3.결산서 산출기초
A2: 【3호 서식】
B4: 결산서 산출기초
I6: (단위 : 원)
A7: 구분 | C7: 결 산 과 목 | E7: 결 산 액 | G7: 산 출 기 초
A8: 세입 | C8: 대가료 | E8: 27640702 | G8: 1.한남동 남산맨션 임대수입(1년) 27,600,000*1회 2.남산맨션 임대보증금 정기예금 이자수입 4,600,000원*1.04%=40,702원
C9: 예금이자수입 | E9: 9932137 | G9: 수익용기본재산 정기예금이자수입 512,160,000원*1.07%=4,623,477원 388,059,500원*1.11%=3,644,120원 179,866,400원*1.10%=1,664,540원
C10: 법인세 환급금<법인분> | E10: 2207350 | G10: 1.법인세환급금<법인분>2,006,700원*1회=2,006,700원 2.지방세한급금<법인분>200,650원*1회=200,650원
C11: 사업수입 | E11: 399300000 | G11: 수익사업체 사업수입 399,300,000원*1회=399,300,000원
C12: 전년도이월금 | E12: 3154503 | G12: 전년도 이월금:3,154,503원*1회=3,154,503원
C13: 보조금 | E13: 5000000 | G13: 교원채용면접지원금 5,000,000원*1회=5,000,000원
C14: 임대보증금 수입 | E14: 4600000 | G14: 한남동 남산맨션 임대보증금 4,600,000*1회=4,600,000원
C15: 예금이자 | E15: 40567 | G15: 1.법인운영비통장(전반기) 23,208원*1회=23,208원 2.법인운영비통장(후반기) 17,359원*1회=17,359원
C16: 잡수입 | E16: 17220 | G16: 1.법인세환급금<법인일반>15,530원*1회=15,530원 2.지방세한급금<법인일반,지체금>1,690원*1회=1,690원
C17: 법인세환급금(학교분) | E17: 6849170 | G17: 법인세환급금(학교분-국세):6,226,660원*1회=6,226,660원 법인세환급금(학교분-지방세):622,510원*1회=622,510원
A18: 계 | E18: =SUM(E8:F17) -> 458741649
A19: 세출 | C19: 임원수당 | E19: 4480000 | G19: 이사회참석수당 70,000원*64명(총9회)=4,480,000원
C20: 공공요금 | E20: 107920 | G20: 법인사무실 전화요금 12회=107,920원
C21: 수용비및수수료 | E21: 2354300 | G21: 1.법인임원등기수수료 267,240원*1회=267,240원 2.세무조정보수및확인서수수료 1,815,000*1회=1,815,000원 3.우편,법정서류및인증서 발급비용=272,060원
C22: 수용재료비 | E22: 24000 | G22: 사무용품비 24,000원*1회=24,000원
C23: 재산유지비 | E23: 14288900 | G23: 1.한남동 남산맨션 유지보수비배관교체공사 13,045,900원*1회=13,045,900원 2.한남동 남산맨션 유지보수비 온수기583,000원*1회=583,000원 3.한남동 남산맨션 유지보수비 양변기 660,000원*1회=660,000원
C24: 공과보험료 | E24: 20868790 | G24: 1.재산세 2,508,640원*1회=2,508,640원 2.주민세 62,500원*1회=62,500원 3.종합부동산세 18,297,650원*1회=18,297,650원
C25: 법정부담금 | E25: 350000000 | G25: 1.대일고등학교 160,000,000원*1회=160,000,000원 2.대일관광고등학교 90,000,000원*1회=90,000,000원 3.대일외국어고등학교 100,000,000원*1회=100,000,000원
C26: 법인세환급금(학교분) | E26: 6226660 | G26: 법인세환급금<학교분> 6,226,660원*1회=6,226,660원
C27: 기타전출금 | E27: 5622510 | G27: 1.교원채용면접지원금 5,000,000원*1회=5,000,000원 2.지방세환급금 622,510원*1회=622,510원
C28: 기타제지출 | E28: 5580000 | G28: 법인협의회비 대일고등학교 60,000원*40학급=2,400,000원 대일관광고등학교 60,000원* 23학급=1,380,000원 대일외국어고등학교 60,000원*30학급=1,800,000원
A29: 계 | E29: =SUM(E19:F28) -> 409553080
A31: ※ 예산과목 : 예산과목 중 “목” 기재
A32: ※ 산출기초는 목의 사업별로 "원" 단위로 구체적으로 작성하여야 하며, 산출기초 없이 총액으로 기재하지 않도록 함

Sheet 4.감사보고서
A2: 【4호 서식】
A4: 감사 보고서
B7: 본인 등은 「사립학교법」제19호 제4항 및 「사학기관 재무·회계 규칙」제 41조에 의하여 학교법인 대일학원의 2021.03.01부터 2022.02.28일로 종결되는 2021학년도의 법인회계에 속하는 수입과 지출에 관한 제반증빙 문건과 장부를 일반적인 감사기준에 따라 감사를 실시하였습니다.
B14: 결산서의 각항은 (다음에 지적된 사항을 제외하고는) 정확하였으며, 그 회계처리는 적정하였습니다.
C19: ( 다 | D19: 음 )
D21: 2022. 04 . 08 .
E23: 학교법인 | G23: 대일학원
E25: 감사 | G25: 서명(인)
E27: 감사 | G27: 서명(인)
C29: 피감사자(입회인) | E29: 직명
E30: 성명 | G30: 서명(인)
B33: 학교법인 대일학원 이사장 귀하
A36: ※ 반드시 감사가 자필 서명 날인할 것.
A37: ※ 형식적인 감사가 되지 않도록 하고, 위법 부당한 사례를 충분히 발견할 수
A38: 있는 사실을 감사보고서에 기재하지 않을 시 "감사"에게도 책임이 있음을 참고

Sheet 5.예금잔액증명서
A2: 【5호 서식】
B4: 예금잔액 증명서
I6: (단위 : 원)
A7: 예금종류 | B7: 거래은행명 | D7: 계좌번호 | F7: 잔액지정일자 | H7: 잔액 | J7: 비고
A8: 보통예금 | B8: 신한은행 | D8: 100-026-768713 | F8: 2022.02.28 | H8: 44588569
A9: 정기예금 | B9: 신한은행 | D9: 200-593-210069 | F9: 2022.02.28 | H9: 4600000
A19: 계 | H19: =SUM(H8:I18) -> 49188569
A21: ※ 임대보증금 잔액증명서 포함
A22: ※ 금융기관에서 발행한 잔액증명서는 이면에 첨부
A23: ※ 잔액지정일자 : 2021학년도 회계 마감일

Sheet 법인예금잔고증명서

Sheet 수익사업임대보증금잔고증명서

Sheet 6.불부합조서
A2: 【6호 서식】
B4: 불부합 조서
A6: 1. 내 용
I7: (단위 : 원)
A8: 결 산 잔 액 | D8: 금 융 기 관 잔 액 | G8: 차 액 | J8: 비고
D9: 해당없음
A17: 2. 사 유
A19: “차액에 대하여 상세하게 작성”
C25: 20 년 월 일
C31: 위 내용을 확인함
E37: 학교법인 학원 이사장 (직인)
A41: ※ 반드시 직인을 날인하고 근거자료를 첨부한다.
A42: ※ 차액이 있을 경우에 한하여 첨부한다.

Sheet 7.차입금명세서
A2: 【7호 서식】
B4: 차입금 명세서
I6: (단위 : 원)
A7: 전 년 도 차입누계 (A) | B7: 당해연도 차 입 액 (B) | C7: 당해연도 상 환 액 ( C) | D7: 차 입 금 잔 액 | E7: 당해연도 차입 | G7: 차입사유 | I7: 상환계획 | J7: 허가문서 번호, 일시
E8: 차입일시 | F8: 차 입 처
G9: 해당없음
A15: 계
A17: ※ (A) 전년도 차입누계 : 차입금 잔액과 일치
A18: ※ (B) 당해연도 차입액 : 결산서상의 차입금과 일치
A19: ※ (C) 당해연도 상환액 : 결산서상의 상환금과 일치
A20: ※ (D) 차입금 잔액 : (A) + (B) - (C)

Sheet 8.인건비 지급명세서
A2: 【8호 서식】
B4: 인건비 지급 명세서
I6: (단위 : 원)
A7: 구분 | C7: 연번 | D7: 직 | E7: 성명 | F7: 호봉 | G7: 연간지급액
G8: 봉급 | H8: 수당 | I8: 기타 | J8: 소계
A9: 법인일반회계
A10: 수익사업회계 | C10: 1 | D10: 과장(5급) | E10: 박00 | F10: 17 | G10: 16744134 | H10: 8757873 | I10: 0 | J10: =SUM(G10:I10) -> 25502007
A11: 합 계
A12: ※ 법인일반회계의 경우 결산총괄표[제1호], 세출결산명세서[제2호], 결산서산출기초[제3호] 상의 인건비 총액과 일치하도록, 수익사업회계의 경우 당기 손익계산서 상의 인건비 총액과 일치하도록 작성

Sheet 9.채무확정액조서
A2: 【9호 서식】
B4: 채무 확정액 조서
I6: (단위 : 원)
A7: 예산과목 | B7: 사업총액(A) | D7: 기지출액(B) | F7: 채무확정액 (미불액) (A)-(B) | G7: 지 출 예 정 | I7: 채무확정 사 유
B8: 연 도 | C8: 금 액 | G8: 연 도 | H8: 금 액
D9: 해당없음
A15: 계

Sheet 10.결손처분액 및 미수액조서
A2: 【10호 서식】
B4: 결손처분액 및 미수액조서
I6: (단위 : 원)
A7: 과 목 | D7: 예산액 (A) | E7: 징 수 결정액 (B) | F7: 수입액 ( C) | G7: 결손액 (D) | H7: 미수액 (B-C-D) | I7: 미수내역 및 사유
A8: 관 | B8: 항 | C8: 목
D12: 해 | E12: 당 | F12: 없 | G12: 음
B21: 계
A23: ※ 예산액(A) : 결산명세서의 예산액과 일치
A24: ※ 수입액(C) : 결산명세서의 결산액과 일치
A25: ※ 결손액(D) : 수입으로 징수 결정하였으나 법령의 통지나 시효의 완성 등으로
B26: 징수가 불가능한 금액

Sheet 11.예비비 사용조서
A2: 【11호 서식】
B4: 예비비 사용 조서
I6: (단위 : 원)
A7: 사 용 일 자 | C7: 금 액 | E7: 사 유 | G7: 사 용 내 역 | I7: 비 고
E11: 해당없음
A24: 총 계
A26: ※ 예산액 : 원
A27: ※ 사용액 : 원
A28: ※ 잔 액 : 원

Sheet 12.이월사업비조서(다음연도)
A2: 【12호 서식】
B4: 이월사업비 조서
A5: * 다음연도로 이월
I6: (단위 : 천원)
A7: 과 목 | D7: 사업명 | E7: 당해년도 예산액 (A) | F7: 당해년도 지출액 (B) | G7: 지출잔액 (A)-(B) | H7: 이월액 | I7: 이월사유
A8: 관 | B8: 항 | C8: 목
A9: 상환금 | B9: 부채상환금 | C9: 임대보증금환급금 | D9: 남산맨션임대보증금 | E9: 4600 | F9: 0 | G9: =E9-F9 -> 4600 | H9: =G9 -> 4600 | I9: 임대기간 미종료
A20: ※ 이월사업비 : 다음연도에 세입으로 반드시 편성
A21: ※ 시설비 등 특정사업을 완료하지 못한 경우
A22: ※ 기부금이 재원일 경우 "기부금" 표시 예시)"oo 시설공사비(oo기부금)"
A23: ※ 이사회비, 사무비 등 법인운영비는 불가

Sheet 13.직원퇴직금관리현황
A2: 【13호 서식】
B4: 직원 퇴직금 관리 현황
I6: (단위 : 원)
A7: 퇴직금 지급 대상 인원 | C7: 퇴직금 지급 소요액 (A) | E7: 퇴직급 적립액 (B) | G7: 부 족 액 (A)-(B) | I7: 비 고
A24: ※ 지급대상인원 : 2월말 기준
A25: ※ 퇴직금 지급소요액 : 2월말 기준으로 퇴직금 산정
A26: ※ 퇴직적립금 예금잔액 증명서 첨부

Sheet 14.기부금각서
A2: 【14호 서식】
A4: 기부금 각서
B7: 본인은 학교법인 ㅇ ㅇ 학원에 아래표시 금액을 아무 조건 없이 무상으로 기부하겠음을 각서합니다.
B12: 1. 기부금액 : | D12: 일금 | I12: 원
D13: (￦ | I13: )
B15: 2. 기부기한 : | D15: 20 년 | F15: 월 | H15: 일 | I15: 까지
B17: 3. 기부목적 :
C23: 20 . . .
D27: 기부자 | E27: 주소 :
E29: 성명 : | G29: (인)
E31: 생년월일 :
C34: 학교법인 학원 이사장 귀하

Sheet 15. 임대수입 내역
A1: 15. 임대보증금 명세서
A3: <작성요령> - 작성기준일 : 2022. 2. 28. - 구분 : 토지, 건물로 표기(건물은 건물명칭으로 표기) - 수입액 : 2021회계연도 결산시 수입으로 들어온 금액 - 미수입액 : 2021회계연도에 수입으로 들어와야 되나 들어오지 않은 금액 - 과년도 수입액 : 2020회계연도 결산시 수입으로 들어왔어야 하나, 수입으로 잡지 못해서 2021회계연도 결산시 수입처리된 금액 - 임대보증금 현 보유액이 [제5호 서식]의 임대보증금 잔액증명서 총액과 일치하도록 작성 - 설정된 임대보증금과 임대보증금 현 보유액 불일치 시 비고 란에 불일치 사유 작성 - 증빙자료 : 임대보증금 보관 통장 잔고증명서(2022. 2. 28.기준) -> 시트 5. 예금잔액증명서에 포함하여 제출 ※ 2021회계연도 결산 기준 계약종료 세입자는 "비고"란에 "계약종료" 표시
O4: (금액 단위 : 천원)
A5: 법인명 | B5: 회계구분 (법인회계/ 수익사업회계) | C5: 소 재 지 | F5: 층/호수 | G5: 면적(㎡) | H5: 임차인 | I5: 임대 보증금 | J5: 임대보증금 현재 보유액 (2022.2.28.기준) | K5: 월임대료 (부가세제외) (2022.2.28.기준) | L5: 연간 수입 (21년 결산기준) | N5: 과년도 수입액 (21년 결산기준) | O5: 비고
C6: 시·도 | D6: 시·군·구 | E6: 도로명주소 (지번주소) | L6: 수입액 | M6: 미수입액
A7: 대일학원 | B7: 법인회계 | C7: 서울 | D7: 용산구 | E7: 소월로377 (한남동726-74) | F7: 502 | G7: 124.5 | H7: 황국현 | I7: 4600 | J7: 4600 | K7: 2300 | L7: 27600 | M7: 0 | N7: 0
A8: 대일학원 | B8: 서경대빌딩 | C8: 서울 | D8: 강남구 | E8: 논현로848 | F8: 지하1층 | G8: 81.5991 | H8: 맥도날드 | O8: 수익사업체는 대일학원 지분33%임
A9: 대일학원 | B9: 서경대빌딩 | C9: 서울 | D9: 강남구 | E9: 논현로848 | F9: 1 층 | G9: 28.314 | H9: CGV 압구정 | I9: 87436 | K9: 1334 | L9: 16014
A10: 대일학원 | B10: 서경대빌딩 | C10: 서울 | D10: 강남구 | E10: 논현로848 | F10: 1 층 | G10: 93.258 | H10: 맥도날드 | I10: 280905 | K10: 6621 | L10: 81770 | M10: 2990 | O10: 맥도날드 보증금합산액(지하1,1층)
A11: 대일학원 | B11: 서경대빌딩 | C11: 서울 | D11: 강남구 | E11: 논현로848 | F11: 2층 | G11: 12.6 | H11: 와이즈평가정보 | I11: 6600 | K11: 495 | L11: 3465 | M11: 112
A12: 대일학원 | B12: 서경대빌딩 | C12: 서울 | D12: 강남구 | E12: 논현로848 | F12: 2 층 | G12: 260.37 | H12: 드림메디컬 | I12: 99000 | K12: 13681 | L12: 150496 | M12: 87139 | O12: 드림매디컬 미수입액은(2,5,6,7,10층 합산)
A13: 대일학원 | B13: 서경대빌딩 | C13: 서울 | D13: 강남구 | E13: 논현로848 | F13: 5 층 | G13: 151.767 | H13: 드림메디컬 | I13: 115500 | K13: 3723 | L13: 40961
A14: 대일학원 | B14: 서경대빌딩 | C14: 서울 | D14: 강남구 | E14: 논현로848 | F14: 6 층 | G14: 152.592 | H14: 드림메디컬 | I14: 66000 | K14: 4502 | L14: 49528
A15: 대일학원 | B15: 서경대빌딩 | C15: 서울 | D15: 강남구 | E15: 논현로848 | F15: 7 층 | G15: 152.592 | H15: 드림메디컬 | I15: 66000 | K15: 4502 | L15: 49528
A16: 대일학원 | B16: 서경대빌딩 | C16: 서울 | D16: 강남구 | E16: 논현로848 | F16: 8 층 | G16: 152.724 | H16: 압구정최안과 | I16: 66000 | K16: 4349 | L16: 52192
A17: 대일학원 | B17: 서경대빌딩 | C17: 서울 | D17: 강남구 | E17: 논현로848 | F17: 9 층 | H17: 드림메디컬 | L17: 20530 | O17: 계약만료
A18: 대일학원 | B18: 서경대빌딩 | C18: 서울 | D18: 강남구 | E18: 논현로848 | F18: 9 층 | G18: 153.483 | H18: 원더풀 성형외과 | I18: 66000 | K18: 4554 | L18: 27324 | M18: 2042 | O18: 신규계약
A19: 대일학원 | B19: 서경대빌딩 | C19: 서울 | D19: 강남구 | E19: 논현로848 | F19: 10 층 | G19: 142.065 | H19: 드림메디컬 | I19: 66000 | K19: 4122 | L19: 45343
A20: 대일학원 | B20: 서경대빌딩 | C20: 서울 | D20: 강남구 | E20: 논현로848 | F20: 11 층 | G20: 156.09 | H20: 포즈 | I20: 110817 | K20: 3140 | L20: 37690
A21: 대일학원 | B21: 서경대빌딩 | C21: 서울 | D21: 강남구 | E21: 논현로848 | F21: 12 층 | G21: 152.13 | H21: 라움 | I21: 107174 | K21: 2679 | L21: 32154 | M21: 2005
A22: 대일학원 | B22: 서경대빌딩 | C22: 서울 | D22: 강남구 | E22: 논현로848 | F22: 지하1,2층 | G22: 1291.719 | H22: CGV 압구정수수료 | I22: 1320000 | J22: 1188000 | K22: 2444 | L22: 47853 | M22: 20701 | O22: CGV 압구정 미수액은(1층,지하1,2층 합산)
A23: 계 | G23: =SUM(G7:G22) -> 3105.8031 | I23: =SUM(I7:I22) -> 2462032 | J23: =SUM(J7:J22) -> 1192600 | K23: =SUM(K7:K22) -> 58446 | L23: =SUM(L7:L22) -> 682448 | M23: =SUM(M7:M22) -> 114989 | N23: =SUM(N7:N22) -> 0

Sheet 16. 세입결산총괄(가로형 서식)
A1: 2021년 세입결산 총괄
AO2: (단위: 원)
A3: 법 인 명 | B3: 1. 재산수입 | P3: 2. 사업수입 | Q3: 3. 투자수입 | V3: 4. 전년도수입 | W3: 5. 이월금 | AB3: 6. 기부원조금 | AF3: 7. 차입금 | AJ3: 8 .잡수입 | AO3: 합 계
B4: 기본재산수입 | J4: 재산매각대 | Q4: 배당금 | R4: 국채상환금 | S4: 국채이자수입 | T4: 기타증권수입 | U4: 소계 | AJ4: 불용물품 매각대 | AK4: 예금이자 | AL4: 잡수입 | AN4: 소계
B5: 대지료 | C5: 대가료 | D5: 임야수입 | E5: 예금이자수입 | F5: 배당금수입 | G5: 법인세환급금 (법인분) | H5: 기타수입 | I5: 소계 | J5: 토지매각대 | K5: 건물매각대 | L5: 임야매각대 | M5: 현금처분대 | N5: 기타재산매각대 | O5: 소계 | W5: 전년도잉여금 | X5: 이월사업비 | Y5: 임대보증금 미환급금 | Z5: 적립금 | AA5: 소계 | AB5: 기부금 | AC5: 보조금 | AD5: 기타지원금 | AE5: 소계 | AF5: 은행차입 | AG5: 개인차입 | AH5: 임대보증금수입 | AI5: 소계 | AL5: 잡수입 | AM5: 법인세환급금 (학교분)
A6: =표지!C45 -> 학교법인 대일학원 | B6: ='2.세입·세출 결산명세서'!D7 -> 0 | C6: ='2.세입·세출 결산명세서'!D8 -> 27640702 | D6: ='2.세입·세출 결산명세서'!D9 -> 0 | E6: ='2.세입·세출 결산명세서'!D10 -> 9932137 | F6: ='2.세입·세출 결산명세서'!D11 -> 0 | G6: ='2.세입·세출 결산명세서'!D12 -> 2207350 | H6: ='2.세입·세출 결산명세서'!D13 -> 0 | I6: =SUM(B6:H6) -> 39780189 | J6: ='2.세입·세출 결산명세서'!D14 -> 0 | K6: ='2.세입·세출 결산명세서'!D15 -> 0 | L6: ='2.세입·세출 결산명세서'!D16 -> 0 | M6: ='2.세입·세출 결산명세서'!D17 -> 0 | N6: ='2.세입·세출 결산명세서'!D18 -> 0 | O6: =SUM(J6:N6) -> 0 | P6: ='2.세입·세출 결산명세서'!D19 -> 399300000 | Q6: ='2.세입·세출 결산명세서'!D20 -> 0 | R6: ='2.세입·세출 결산명세서'!D21 -> 0 | S6: ='2.세입·세출 결산명세서'!D22 -> 0 | T6: ='2.세입·세출 결산명세서'!D23 -> 0 | U6: =SUM(Q6:T6) -> 0 | V6: ='2.세입·세출 결산명세서'!D24 -> 0 | W6: ='2.세입·세출 결산명세서'!D25 -> 3154503 | X6: ='2.세입·세출 결산명세서'!D26 -> 0 | Y6: ='2.세입·세출 결산명세서'!D27 -> 0 | Z6: ='2.세입·세출 결산명세서'!D28 -> 0 | AA6: =SUM(W6:Z6) -> 3154503 | AB6: ='2.세입·세출 결산명세서'!D29 -> 0 | AC6: ='2.세입·세출 결산명세서'!D30 -> 5000000 | AD6: ='2.세입·세출 결산명세서'!D31 -> 0 | AE6: =SUM(AB6:AD6) -> 5000000 | AF6: ='2.세입·세출 결산명세서'!D32 -> 0 | AG6: ='2.세입·세출 결산명세서'!D33 -> 0 | AH6: ='2.세입·세출 결산명세서'!D34 -> 4600000 | AI6: =SUM(AF6:AH6) -> 4600000 | AJ6: ='2.세입·세출 결산명세서'!D35 -> 0 | AK6: ='2.세입·세출 결산명세서'!D36 -> 40567 | AL6: ='2.세입·세출 결산명세서'!D37 -> 17220 | AM6: ='2.세입·세출 결산명세서'!D38 -> 6849170 | AN6: =SUM(AJ6:AM6) -> 6906957 | AO6: =I6+AN6+AI6+AE6+AA6+V6+U6+P6+O6 -> 458741649

Sheet 17. 세출결산총괄(가로형 서식)
A1: 2021년 세출결산총괄
BA2: (단위: 원)
A3: 법 인 명 | B3: 1. 이사회비 | G3: 2. 사무비 | U3: 3. 재산조성비 | AC3: 4. 전출금 | AK3: 5. 투자비 | AO3: 6. 전년도 지출 | AP3: 7. 상환금 | AT3: 8. 수혜금 (장학금) | AU3: 9. 잡지출 | AZ3: 10. 예비비 | BA3: 합 계
B4: 임원수당 | C4: 회의비 | D4: 업무추진비 | E4: 여비 | F4: 소계 | G4: 인건비 | N4: 수용비 | U4: 시설비 | Y4: 관리비 | AC4: 법정부담금 | AD4: 학교운영경비 | AE4: 법인세 환급금 (학교분) | AF4: 교육청 대응투자비 | AG4: 시설비 | AH4: 교육청 외 기관지원금 | AI4: 기타전출금 | AJ4: 소계 | AK4: 주식채권 매입비 (수익용) | AL4: 현금 기타투자비 (수익용) | AM4: 기타투자비 (법인일반운영비) | AN4: 소계 | AP4: 원금상환금 | AQ4: 이자상환금 | AR4: 임대보증금 환급금 | AS4: 소계 | AU4: 보상금 | AV4: 사례금 | AW4: 소송비 | AX4: 기타제지출 | AY4: 소계
G5: 봉급 | H5: 수당 | I5: 잡급 | J5: 여비 | K5: 퇴직금 | L5: 부담금 | M5: 소계 | N5: 공공요금 | O5: 차량비 | P5: 비품기계류비 | Q5: 수수료수선비 | R5: 수용재료비 | S5: 인쇄비 | T5: 소계 | U5: 재산매입비 | V5: 시설비 | W5: 적립금 | X5: 소계 | Y5: 재산유지비 | Z5: 공과보험료 | AA5: 재산사용료 | AB5: 소계
A6: =표지!C45 -> 학교법인 대일학원 | B6: ='2.세입·세출 결산명세서'!D49 -> 4480000 | C6: ='2.세입·세출 결산명세서'!D50 -> 0 | D6: ='2.세입·세출 결산명세서'!D51 -> 0 | E6: ='2.세입·세출 결산명세서'!D52 -> 0 | F6: =SUM(B6:E6) -> 4480000 | G6: ='2.세입·세출 결산명세서'!D53 -> 0 | H6: ='2.세입·세출 결산명세서'!D54 -> 0 | I6: ='2.세입·세출 결산명세서'!D55 -> 0 | J6: ='2.세입·세출 결산명세서'!D56 -> 0 | K6: ='2.세입·세출 결산명세서'!D57 -> 0 | L6: ='2.세입·세출 결산명세서'!D58 -> 0 | M6: =SUM(G6:L6) -> 0 | N6: ='2.세입·세출 결산명세서'!D59 -> 107920 | O6: ='2.세입·세출 결산명세서'!D60 -> 0 | P6: ='2.세입·세출 결산명세서'!D61 -> 0 | Q6: ='2.세입·세출 결산명세서'!D62 -> 2354300 | R6: ='2.세입·세출 결산명세서'!D63 -> 24000 | S6: ='2.세입·세출 결산명세서'!D64 -> 0 | T6: =SUM(N6:S6) -> 2486220 | U6: ='2.세입·세출 결산명세서'!D65 -> 0 | V6: ='2.세입·세출 결산명세서'!D66 -> 0 | W6: ='2.세입·세출 결산명세서'!D67 -> 0 | X6: =SUM(U6:W6) -> 0 | Y6: ='2.세입·세출 결산명세서'!D68 -> 14288900 | Z6: ='2.세입·세출 결산명세서'!D69 -> 20868790 | AA6: ='2.세입·세출 결산명세서'!D70 -> 0 | AB6: =SUM(Y6:AA6) -> 35157690 | AC6: ='2.세입·세출 결산명세서'!D71 -> 350000000 | AD6: ='2.세입·세출 결산명세서'!D72 -> 0 | AE6: ='2.세입·세출 결산명세서'!D73 -> 6226660 | AF6: ='2.세입·세출 결산명세서'!D74 -> 0 | AG6: ='2.세입·세출 결산명세서'!D75 -> 0 | AH6: ='2.세입·세출 결산명세서'!D76 -> 0 | AI6: ='2.세입·세출 결산명세서'!D77 -> 5622510 | AJ6: =SUM(AC6:AI6) -> 361849170 | AK6: ='2.세입·세출 결산명세서'!D78 -> 0 | AL6: ='2.세입·세출 결산명세서'!D79 -> 0 | AM6: ='2.세입·세출 결산명세서'!D80 -> 0 | AN6: =SUM(AK6:AM6) -> 0 | AO6: ='2.세입·세출 결산명세서'!D81 -> 0 | AP6: ='2.세입·세출 결산명세서'!D82 -> 0 | AQ6: ='2.세입·세출 결산명세서'!D83 -> 0 | AR6: ='2.세입·세출 결산명세서'!D84 -> 0 | AS6: =SUM(AP6:AR6) -> 0 | AT6: ='2.세입·세출 결산명세서'!D85 -> 0 | AU6: ='2.세입·세출 결산명세서'!D86 -> 0 | AV6: ='2.세입·세출 결산명세서'!D87 -> 0 | AW6: ='2.세입·세출 결산명세서'!D88 -> 0 | AX6: ='2.세입·세출 결산명세서'!D89 -> 5580000 | AY6: =SUM(AU6:AX6) -> 5580000 | AZ6: ='2.세입·세출 결산명세서'!D90 -> 0 | BA6: =SUM(F6,M6,T6,X6,AB6,AJ6,AN6,AO6,AS6,AT6,AY6,AZ6) -> 409553080
